BEGIN:VCALENDAR
VERSION:2.0
PRODID:-//Operativo Verano - ECPv6.15.17//NONSGML v1.0//EN
CALSCALE:GREGORIAN
METHOD:PUBLISH
X-ORIGINAL-URL:https://www.santafe.gob.ar/ms/operativo-verano
X-WR-CALDESC:Eventos para Operativo Verano
REFRESH-INTERVAL;VALUE=DURATION:PT1H
X-Robots-Tag:noindex
X-PUBLISHED-TTL:PT1H
BEGIN:VTIMEZONE
TZID:America/Sao_Paulo
BEGIN:STANDARD
TZOFFSETFROM:-0300
TZOFFSETTO:-0300
TZNAME:-03
DTSTART:20240101T000000
END:STANDARD
END:VTIMEZONE
BEGIN:VEVENT
DTSTART;TZID=America/Sao_Paulo:20250118T210000
DTEND;TZID=America/Sao_Paulo:20250118T233000
DTSTAMP:20260422T162912
CREATED:20241211T161626Z
LAST-MODIFIED:20250210T163131Z
UID:915-1737234000-1737243000@www.santafe.gob.ar
SUMMARY:Fiesta provincial de la Pizza Artesanal
DESCRIPTION:Una nueva edición de la Fiesta de la Pizza Artesanal Aureliense.
URL:https://www.santafe.gob.ar/ms/operativo-verano/evento/fiesta-provincial-de-la-pizza-artesanal/
LOCATION:Club sportivo Aurelia\, HHHH+M4 Aurelia\, Santa Fe\, Aurelia\, Santa Fe\, Argentina
CATEGORIES:Turismo
ATTACH;FMTTYPE=image/jpeg:https://www.santafe.gob.ar/ms/operativo-verano/wp-content/uploads/sites/65/2024/12/aurelia-pizza-artesanal.jpg
END:VEVENT
BEGIN:VEVENT
DTSTART;VALUE=DATE:20250207
DTEND;VALUE=DATE:20250210
DTSTAMP:20260422T162912
CREATED:20241212T190012Z
LAST-MODIFIED:20241220T115313Z
UID:987-1738886400-1739145599@www.santafe.gob.ar
SUMMARY:Fiesta de los Productores de Cerveza Artesanal y Gastronomía Regional
DESCRIPTION:La ciudad de El Trébol se prepara para recibir la segunda edición de la Fiesta de los productores de cerveza artesanal y gastronomía regional. Desde la organización se trabaja en la grilla de espectáculos\, que son de gran nivel y con números que giran por todo el país. Una de las máximas atracciones\, será el ritual del espiche que trata del descorche del primer barril de la noche en el escenario\, con un convite al público. \nLa vedette de la fiesta\, es la cerveza y la gastronomía\, pero lo que habrá en el escenario\, será digno de ver y escuchar. La música\, en el escenario del sábado\, comenzará a las 21 hs. y el domingo a las 20.  Aunque la fiesta\, para ambos días\, abrirá sus puertas a las 17 hs. \nLa variedad de carros para el evento de El Trébol\, será muy federal. Habrá «Beer trucks» y «Food trucks».
URL:https://www.santafe.gob.ar/ms/operativo-verano/evento/fiesta-de-los-productores-de-cerveza-artesanal-y-gastronomia-regional/
LOCATION:Privado: Predio Ecologico 15 de Enero\, Blvd. América 1271\, El Trebol\, Santa Fe\, S2535\, Argentina
CATEGORIES:Turismo
ATTACH;FMTTYPE=image/jpeg:https://www.santafe.gob.ar/ms/operativo-verano/wp-content/uploads/sites/65/2024/12/el-trrebol.jpg
END:VEVENT
BEGIN:VEVENT
DTSTART;TZID=America/Sao_Paulo:20250207T080000
DTEND;TZID=America/Sao_Paulo:20250207T170000
DTSTAMP:20260422T162912
CREATED:20250207T141641Z
LAST-MODIFIED:20250207T141653Z
UID:1354-1738915200-1738947600@www.santafe.gob.ar
SUMMARY:13º Campeonato santafesino de Motocross
DESCRIPTION:El Campeonato Santafesino de Motocross es una competencia regional que reúne a pilotos de motocross de la provincia de Santa Fe\, Argentina. En 2025\, se celebrará su 13ª edición\, con un calendario que abarca varias fechas en diferentes localidades de la provincia. \nEste campeonato ha experimentado un crecimiento significativo en los últimos años\, tanto en la cantidad de pilotos participantes como en la calidad de los circuitos utilizados. La edición de 2024\, por ejemplo\, duplicó la cantidad de inscriptos en comparación con años anteriores. \nPara obtener más información sobre el campeonato\, incluyendo detalles sobre las fechas y resultados de las competencias\, se recomienda visitar la página oficial en Facebook del Campeonato Santafesino de Motociclismo.
URL:https://www.santafe.gob.ar/ms/operativo-verano/evento/13o-campeonato-santafesino-de-motocross/
LOCATION:Automovil Club Santa Fe\, 87P8+G8 Santa Fe de la Vera Cruz\, Santa Fe\, Santa Fe\, Santa Fe\, 3000\, Argentina
CATEGORIES:Seguridad,Turismo
ATTACH;FMTTYPE=image/jpeg:https://www.santafe.gob.ar/ms/operativo-verano/wp-content/uploads/sites/65/2025/02/moto-cros-santa-fe.jpg
END:VEVENT
END:VCALENDAR