BEGIN:VCALENDAR
VERSION:2.0
PRODID:-//Operativo Verano - ECPv6.15.17//NONSGML v1.0//EN
CALSCALE:GREGORIAN
METHOD:PUBLISH
X-WR-CALNAME:Operativo Verano
X-ORIGINAL-URL:https://www.santafe.gob.ar/ms/operativo-verano
X-WR-CALDESC:Eventos para Operativo Verano
REFRESH-INTERVAL;VALUE=DURATION:PT1H
X-Robots-Tag:noindex
X-PUBLISHED-TTL:PT1H
BEGIN:VTIMEZONE
TZID:America/Sao_Paulo
BEGIN:STANDARD
TZOFFSETFROM:-0300
TZOFFSETTO:-0300
TZNAME:-03
DTSTART:20240101T000000
END:STANDARD
END:VTIMEZONE
BEGIN:VEVENT
DTSTART;TZID=America/Sao_Paulo:20250118T210000
DTEND;TZID=America/Sao_Paulo:20250118T233000
DTSTAMP:20260422T162855
CREATED:20241211T161626Z
LAST-MODIFIED:20250210T163131Z
UID:915-1737234000-1737243000@www.santafe.gob.ar
SUMMARY:Fiesta provincial de la Pizza Artesanal
DESCRIPTION:Una nueva edición de la Fiesta de la Pizza Artesanal Aureliense.
URL:https://www.santafe.gob.ar/ms/operativo-verano/evento/fiesta-provincial-de-la-pizza-artesanal/
LOCATION:Club sportivo Aurelia\, HHHH+M4 Aurelia\, Santa Fe\, Aurelia\, Santa Fe\, Argentina
CATEGORIES:Turismo
ATTACH;FMTTYPE=image/jpeg:https://www.santafe.gob.ar/ms/operativo-verano/wp-content/uploads/sites/65/2024/12/aurelia-pizza-artesanal.jpg
END:VEVENT
BEGIN:VEVENT
DTSTART;VALUE=DATE:20250213
DTEND;VALUE=DATE:20250217
DTSTAMP:20260422T162855
CREATED:20241218T190312Z
LAST-MODIFIED:20241220T131044Z
UID:1095-1739404800-1739750399@www.santafe.gob.ar
SUMMARY:36º Festival de las Tres Lunas
DESCRIPTION:El Festival de las Tres Lunas en Cañada de Gómez es un encuentro cultural que celebra la conexión entre los procesos simbólicos de los territorios\, creando identidad y subjetividad en cada paso. Este festival se presenta como un espacio donde se impulsa el despliegue y movimiento de las tradiciones. Cada edición reúne a una selección de músicos y ballets locales y regionales\, que\, junto con artistas nacionales\, nos brindan noches llenas de magia y arte\, promoviendo el intercambio y el enriquecimiento colectivo. \nA lo largo del festival\, los asistentes pueden disfrutar de una variada oferta gastronómica\, vivir el espíritu de las Peña que rodea el evento. Todo esto convierte al Festival de las Tres Lunas en un patrimonio cultural único y distintivo\, no solo de la ciudad de Cañada de Gómez\, sino también de la región\, donde las lunas se llenan de música\, danzas y vivencias compartidas.
URL:https://www.santafe.gob.ar/ms/operativo-verano/evento/36o-festival-de-las-tres-lunas/
LOCATION:Privado: Predio Las Tres Lunas\, Cañada de Gómez\, Santa Fe\, Argentina
CATEGORIES:Turismo
ATTACH;FMTTYPE=image/jpeg:https://www.santafe.gob.ar/ms/operativo-verano/wp-content/uploads/sites/65/2024/12/canada-de-gomez-tres-lunas.jpg
END:VEVENT
BEGIN:VEVENT
DTSTART;VALUE=DATE:20250214
DTEND;VALUE=DATE:20250217
DTSTAMP:20260422T162855
CREATED:20241218T190604Z
LAST-MODIFIED:20241223T124253Z
UID:1098-1739491200-1739750399@www.santafe.gob.ar
SUMMARY:28º Festival Gessler Folklore Para Todos
DESCRIPTION:Este festival está orientado a la celebración y difusión del folklore argentino\, y tiene como objetivo principal promover la música y las danzas tradicionales de distintas regiones del país\, abriendo un espacio para artistas locales y nacionales. \nDurante el festival\, los asistentes disfrutan de una gran variedad de espectáculos de música folklórica en vivo\, que incluyen desde grupos de folklore de la región hasta artistas de renombre. Además\, el evento también ofrece danzas típicas\, competencias de agrupaciones de baile\, y exposiciones culturales. Es una verdadera fiesta de la cultura popular argentina que\, además de la música y la danza\, también incluye espacios para el disfrute gastronómico\, con la oferta de platos típicos regionales. \nEl Gessler Folklore Para Todos busca acercar el folklore a toda la comunidad y los turistas\, destaca por su ambiente familiar y festivo. Es un evento pensado para que cualquier persona pueda disfrutar del arte popular argentino en su más pura expresión.
URL:https://www.santafe.gob.ar/ms/operativo-verano/evento/28o-festival-gessler-folklore-para-todos/
LOCATION:Privado: Plaza San Martin\, Gessler\, Alberdi 705\, Gessler\, Santa Fe\, Argentina
CATEGORIES:Turismo
ATTACH;FMTTYPE=image/jpeg:https://www.santafe.gob.ar/ms/operativo-verano/wp-content/uploads/sites/65/2024/12/gessler-folklore-para-todos.jpg
ORGANIZER;CN="Comuna de Gessler":MAILTO:comunagessler@gmail.com
END:VEVENT
END:VCALENDAR