BEGIN:VCALENDAR
VERSION:2.0
PRODID:-//Operativo Verano - ECPv6.15.17//NONSGML v1.0//EN
CALSCALE:GREGORIAN
METHOD:PUBLISH
X-WR-CALNAME:Operativo Verano
X-ORIGINAL-URL:https://www.santafe.gob.ar/ms/operativo-verano
X-WR-CALDESC:Eventos para Operativo Verano
REFRESH-INTERVAL;VALUE=DURATION:PT1H
X-Robots-Tag:noindex
X-PUBLISHED-TTL:PT1H
BEGIN:VTIMEZONE
TZID:America/Sao_Paulo
BEGIN:STANDARD
TZOFFSETFROM:-0300
TZOFFSETTO:-0300
TZNAME:-03
DTSTART:20240101T000000
END:STANDARD
END:VTIMEZONE
BEGIN:VEVENT
DTSTART;TZID=America/Sao_Paulo:20250222T203000
DTEND;TZID=America/Sao_Paulo:20250222T233000
DTSTAMP:20260422T151919
CREATED:20241223T150639Z
LAST-MODIFIED:20250204T121408Z
UID:1194-1740256200-1740267000@www.santafe.gob.ar
SUMMARY:Fiesta Provincial del Bricelet
DESCRIPTION:La 21ª Fiesta Provincial del Bricelet es un evento tradicional que se celebra en Colonia Belgrano. Esta fiesta está dedicada al bricelet\, una masita dulce o salada típico de la región\, traída por tradición Suiza. \nDurante la celebración\, los asistentes pueden disfrutar de una variedad de actividades\, siendo la gastronomía uno de los principales atractivos. El bricelet es el protagonista de la fiesta\, con diferentes variantes del dulce que se pueden degustar en puestos y stands. Además de la comida\, se realizan espectáculos musicales\, danzas folklóricas\, y diversas actividades culturales y recreativas para toda la familia. \nLa Fiesta Provincial del Bricelet tiene como objetivo preservar y promover las tradiciones gastronómicas locales\, al tiempo que fomenta el encuentro comunitario y el turismo. Con su ambiente festivo\, la fiesta también incluye concursos\, juegos y otras iniciativas que resaltan la identidad cultural de la región.
URL:https://www.santafe.gob.ar/ms/operativo-verano/evento/fiesta-provincial-del-bricelet/
LOCATION:Colonia Belgrano\, Plaza\, S2257 Rosario\, Santa Fe\, Colonia Belgrano\, Santa Fe\, Argentina
CATEGORIES:Turismo
ATTACH;FMTTYPE=image/jpeg:https://www.santafe.gob.ar/ms/operativo-verano/wp-content/uploads/sites/65/2024/12/Colonia-Belgrano-bricelet.jpg
END:VEVENT
END:VCALENDAR