BEGIN:VCALENDAR
VERSION:2.0
PRODID:-//Operativo Verano - ECPv6.15.17//NONSGML v1.0//EN
CALSCALE:GREGORIAN
METHOD:PUBLISH
X-WR-CALNAME:Operativo Verano
X-ORIGINAL-URL:https://www.santafe.gob.ar/ms/operativo-verano
X-WR-CALDESC:Eventos para Operativo Verano
REFRESH-INTERVAL;VALUE=DURATION:PT1H
X-Robots-Tag:noindex
X-PUBLISHED-TTL:PT1H
BEGIN:VTIMEZONE
TZID:America/Sao_Paulo
BEGIN:STANDARD
TZOFFSETFROM:-0300
TZOFFSETTO:-0300
TZNAME:-03
DTSTART:20240101T000000
END:STANDARD
END:VTIMEZONE
BEGIN:VEVENT
DTSTART;TZID=America/Sao_Paulo:20251218T170000
DTEND;TZID=America/Sao_Paulo:20251218T210000
DTSTAMP:20260421T232254
CREATED:20251218T143042Z
LAST-MODIFIED:20251218T144056Z
UID:1483-1766077200-1766091600@www.santafe.gob.ar
SUMMARY:Lanzamiento Operativo Verano Santa Fe 2026
DESCRIPTION:Djs en vivo: Tito Furcata\nPalpitamos los Juegos Suramericanos 2026\nVeni a remar la Setúbal con Rezola y a divertirte con Capi\nDeportes de playa\nSanta Fe Acá: SIES 107\, Assal\, Vacunación y Objetivo Dengue\nSeguridad Vial\, Turismo\, Juventudes\nGénero y Diversidad\, Abordaje de consumos problemáticos\, Talleres de RCP\nDivulgadores ambientales\n19:30 hs PRESENTACIÓN OFICIAL OPERATIVO VERANO\n\nEste 18 de diciembre  desde las 17 hs en PINTA PARADOR/PLAYA COSTA ESTE \,SANTA FE
URL:https://www.santafe.gob.ar/ms/operativo-verano/evento/lanzamiento-operativo-verano/
LOCATION:Pinta Bar de Playa\, Costanera Este\, 3000 Santa Fe de la Vera Cruz\, Santa Fe\, Santa Fe\, Santa Fe\, Argentina
ATTACH;FMTTYPE=image/jpeg:https://www.santafe.gob.ar/ms/operativo-verano/wp-content/uploads/sites/65/2025/02/DSC_60842.jpg
END:VEVENT
END:VCALENDAR