BEGIN:VCALENDAR
VERSION:2.0
PRODID:-//Operativo Verano - ECPv6.15.17//NONSGML v1.0//EN
CALSCALE:GREGORIAN
METHOD:PUBLISH
X-ORIGINAL-URL:https://www.santafe.gob.ar/ms/operativo-verano
X-WR-CALDESC:Eventos para Operativo Verano
REFRESH-INTERVAL;VALUE=DURATION:PT1H
X-Robots-Tag:noindex
X-PUBLISHED-TTL:PT1H
BEGIN:VTIMEZONE
TZID:America/Sao_Paulo
BEGIN:STANDARD
TZOFFSETFROM:-0300
TZOFFSETTO:-0300
TZNAME:-03
DTSTART:20240101T000000
END:STANDARD
END:VTIMEZONE
BEGIN:VEVENT
DTSTART;TZID=America/Sao_Paulo:20251219T170000
DTEND;TZID=America/Sao_Paulo:20251219T210000
DTSTAMP:20260421T232354
CREATED:20251218T143653Z
LAST-MODIFIED:20251219T132131Z
UID:1487-1766163600-1766178000@www.santafe.gob.ar
SUMMARY:Lanzamiento Operativo Verano Rosario 2026
DESCRIPTION:PICNIC NOCTURNO\nCon música en vivo\nDJ Miloko\nTequila\nManu Piró\nTambién feria de emprendedores\, juegos\, dispositivos de Santa Fe acá y palpitamos los Juegos Suramericanos 2026 con Capi!\n19:30 h Presentación Oficial Operativo Verano\nLugar: Parque Nacional a la Bandera
URL:https://www.santafe.gob.ar/ms/operativo-verano/evento/lanzamiento-operativo-verano-rosario-2026/
LOCATION:Monumento Histórico Nacional a la Bandera\, Sta Fe 581\, S2000 Rosario\, Santa Fe\, Rosario\, Santa Fe\, Argentina
ATTACH;FMTTYPE=image/jpeg:https://www.santafe.gob.ar/ms/operativo-verano/wp-content/uploads/sites/65/2024/12/OperativoVerano_TUR-1x1_MonumentoBandera.jpg
END:VEVENT
END:VCALENDAR