BEGIN:VCALENDAR
VERSION:2.0
PRODID:-//Operativo Verano - ECPv6.15.17//NONSGML v1.0//EN
CALSCALE:GREGORIAN
METHOD:PUBLISH
X-WR-CALNAME:Operativo Verano
X-ORIGINAL-URL:https://www.santafe.gob.ar/ms/operativo-verano
X-WR-CALDESC:Eventos para Operativo Verano
REFRESH-INTERVAL;VALUE=DURATION:PT1H
X-Robots-Tag:noindex
X-PUBLISHED-TTL:PT1H
BEGIN:VTIMEZONE
TZID:America/Sao_Paulo
BEGIN:STANDARD
TZOFFSETFROM:-0300
TZOFFSETTO:-0300
TZNAME:-03
DTSTART:20250101T000000
END:STANDARD
END:VTIMEZONE
BEGIN:VEVENT
DTSTART;TZID=America/Sao_Paulo:20260116T180000
DTEND;TZID=America/Sao_Paulo:20260118T230000
DTSTAMP:20260421T215907
CREATED:20251219T132903Z
LAST-MODIFIED:20260126T142145Z
UID:1495-1768586400-1768777200@www.santafe.gob.ar
SUMMARY:Festival de Guadalupe
DESCRIPTION:
URL:https://www.santafe.gob.ar/ms/operativo-verano/evento/festival-de-guadalupe/
LOCATION:Basílica Nuestra Señora de Guadalupe\, Javier de la Rosa 623\, S3004 AZK\, Santa Fe\, Santa Fe\, Santa Fe\, Argentina
ATTACH;FMTTYPE=image/jpeg:https://www.santafe.gob.ar/ms/operativo-verano/wp-content/uploads/sites/65/2025/01/guadalupe.jpg
END:VEVENT
BEGIN:VEVENT
DTSTART;TZID=America/Sao_Paulo:20260117T170000
DTEND;TZID=America/Sao_Paulo:20260117T200000
DTSTAMP:20260421T215907
CREATED:20260126T143013Z
LAST-MODIFIED:20260126T143022Z
UID:1537-1768669200-1768680000@www.santafe.gob.ar
SUMMARY:Club Náutico\, ciudad de Santa Fe
DESCRIPTION:
URL:https://www.santafe.gob.ar/ms/operativo-verano/evento/club-nautico-ciudad-de-santa-fe/
LOCATION:Piletas del Parque Alem\, Av. Pres. Arturo Frondizi 3164\, S2000 Rosario\, Santa Fe\, Argentina\, Rosario\, Santa Fe\, Argentina
ATTACH;FMTTYPE=image/jpeg:https://www.santafe.gob.ar/ms/operativo-verano/wp-content/uploads/sites/65/2024/12/WhatsApp-Image-2024-12-19-at-14.26.34-1.jpeg
END:VEVENT
END:VCALENDAR