BEGIN:VCALENDAR
VERSION:2.0
PRODID:-//Operativo Verano - ECPv6.15.17//NONSGML v1.0//EN
CALSCALE:GREGORIAN
METHOD:PUBLISH
X-WR-CALNAME:Operativo Verano
X-ORIGINAL-URL:https://www.santafe.gob.ar/ms/operativo-verano
X-WR-CALDESC:Eventos para Operativo Verano
REFRESH-INTERVAL;VALUE=DURATION:PT1H
X-Robots-Tag:noindex
X-PUBLISHED-TTL:PT1H
BEGIN:VTIMEZONE
TZID:America/Sao_Paulo
BEGIN:STANDARD
TZOFFSETFROM:-0300
TZOFFSETTO:-0300
TZNAME:-03
DTSTART:20250101T000000
END:STANDARD
END:VTIMEZONE
BEGIN:VEVENT
DTSTART;TZID=America/Sao_Paulo:20260124T160000
DTEND;TZID=America/Sao_Paulo:20260124T190000
DTSTAMP:20260421T215906
CREATED:20260126T144745Z
LAST-MODIFIED:20260126T144757Z
UID:1542-1769270400-1769281200@www.santafe.gob.ar
SUMMARY:Balneario del Saladillo\, ciudad de Rosario
DESCRIPTION:
URL:https://www.santafe.gob.ar/ms/operativo-verano/evento/balneario-del-saladillo-ciudad-de-rosario/
LOCATION:Piletas del Polideportivo Saladillo\, Piletas Del Polideportivo Saladillo\, Rosario\, Santa Fe\, Argentina
ATTACH;FMTTYPE=image/png:https://www.santafe.gob.ar/ms/operativo-verano/wp-content/uploads/sites/65/2025/12/Imagen-05.png
END:VEVENT
END:VCALENDAR