BEGIN:VCALENDAR
VERSION:2.0
PRODID:-//Operativo Verano - ECPv6.15.17//NONSGML v1.0//EN
CALSCALE:GREGORIAN
METHOD:PUBLISH
X-WR-CALNAME:Operativo Verano
X-ORIGINAL-URL:https://www.santafe.gob.ar/ms/operativo-verano
X-WR-CALDESC:Eventos para Operativo Verano
REFRESH-INTERVAL;VALUE=DURATION:PT1H
X-Robots-Tag:noindex
X-PUBLISHED-TTL:PT1H
BEGIN:VTIMEZONE
TZID:America/Sao_Paulo
BEGIN:STANDARD
TZOFFSETFROM:-0300
TZOFFSETTO:-0300
TZNAME:-03
DTSTART:20250101T000000
END:STANDARD
END:VTIMEZONE
BEGIN:VEVENT
DTSTART;TZID=America/Sao_Paulo:20260206T080000
DTEND;TZID=America/Sao_Paulo:20260207T170000
DTSTAMP:20260421T203731
CREATED:20251217T163606Z
LAST-MODIFIED:20251217T163607Z
UID:1452-1770364800-1770483600@www.santafe.gob.ar
SUMMARY:Carnavales Sastre
DESCRIPTION:
URL:https://www.santafe.gob.ar/ms/operativo-verano/evento/carnavales-sastre-3/
LOCATION:Cosmódromo “Toto Strada” de plaza Independencia\, 25 de mayo y Emilio Ortiz\, Sastre y Ortiz\, Santa Fe\, Argentina
ATTACH;FMTTYPE=image/jpeg:https://www.santafe.gob.ar/ms/operativo-verano/wp-content/uploads/sites/65/2024/12/Sastre-carnavales-scaled.jpg
END:VEVENT
BEGIN:VEVENT
DTSTART;TZID=America/Sao_Paulo:20260206T080000
DTEND;TZID=America/Sao_Paulo:20260208T170000
DTSTAMP:20260421T203731
CREATED:20251218T124412Z
LAST-MODIFIED:20251218T124911Z
UID:1458-1770364800-1770570000@www.santafe.gob.ar
SUMMARY:4º Fiesta de los productores de la cerveza artesanal y gastronomía regional
DESCRIPTION:
URL:https://www.santafe.gob.ar/ms/operativo-verano/evento/4o-fiesta-de-los-productores-de-la-cerveza-artesanal-y-gastronomia-regional/
LOCATION:Centro Cultural Cervantes\, C. Rosario 780\, S2535 El Trebol\, Santa Fe\, El Trebol\, Santa Fe\, Argentina
ATTACH;FMTTYPE=image/jpeg:https://www.santafe.gob.ar/ms/operativo-verano/wp-content/uploads/sites/65/2024/12/santa-fe-fiesta-de-la-chopera.jpg
END:VEVENT
BEGIN:VEVENT
DTSTART;TZID=America/Sao_Paulo:20260207T080000
DTEND;TZID=America/Sao_Paulo:20260207T170000
DTSTAMP:20260421T203731
CREATED:20251217T163847Z
LAST-MODIFIED:20251217T164155Z
UID:1454-1770451200-1770483600@www.santafe.gob.ar
SUMMARY:40º Bingo de San Vicente
DESCRIPTION:
URL:https://www.santafe.gob.ar/ms/operativo-verano/evento/40o-bingo-de-san-vicente/
LOCATION:San Vicente\, San Vicente\, Santa Fe\, Argentina
ATTACH;FMTTYPE=image/jpeg:https://www.santafe.gob.ar/ms/operativo-verano/wp-content/uploads/sites/65/2024/12/san-vicente-bingo.jpg
END:VEVENT
BEGIN:VEVENT
DTSTART;TZID=America/Sao_Paulo:20260207T080000
DTEND;TZID=America/Sao_Paulo:20260207T170000
DTSTAMP:20260421T203731
CREATED:20251218T125329Z
LAST-MODIFIED:20251218T125407Z
UID:1462-1770451200-1770483600@www.santafe.gob.ar
SUMMARY:Carnavales 2026
DESCRIPTION:
URL:https://www.santafe.gob.ar/ms/operativo-verano/evento/carnavales-2026-2/
LOCATION:Sala Estrada Suardi\, Cayetano Ripamonti 311\, S2349 Suardi\, Santa Fe\, Suardi\, Santa Fe\, Argentina
ATTACH;FMTTYPE=image/webp:https://www.santafe.gob.ar/ms/operativo-verano/wp-content/uploads/sites/65/2024/12/Vera-Carnaval-litoral.webp
END:VEVENT
BEGIN:VEVENT
DTSTART;TZID=America/Sao_Paulo:20260207T080000
DTEND;TZID=America/Sao_Paulo:20260208T170000
DTSTAMP:20260421T203731
CREATED:20251218T125702Z
LAST-MODIFIED:20251218T130750Z
UID:1464-1770451200-1770570000@www.santafe.gob.ar
SUMMARY:Festival Cuenca del Carcarañá
DESCRIPTION:
URL:https://www.santafe.gob.ar/ms/operativo-verano/evento/festival-cuenca-del-carcarana-2/
LOCATION:Plaza San Martin\, José M. Carcamo 830-900\, S2185 San José de la Esq.\, Santa Fe\, San José de la Esquina\, Santa Fe\, Argentina
ATTACH;FMTTYPE=image/jpeg:https://www.santafe.gob.ar/ms/operativo-verano/wp-content/uploads/sites/65/2024/12/SJ-de-la-Esquina-Cuenca-del-carcarana.jpg
END:VEVENT
END:VCALENDAR