BEGIN:VCALENDAR
VERSION:2.0
PRODID:-//Operativo Verano - ECPv6.15.17//NONSGML v1.0//EN
CALSCALE:GREGORIAN
METHOD:PUBLISH
X-ORIGINAL-URL:https://www.santafe.gob.ar/ms/operativo-verano
X-WR-CALDESC:Eventos para Operativo Verano
REFRESH-INTERVAL;VALUE=DURATION:PT1H
X-Robots-Tag:noindex
X-PUBLISHED-TTL:PT1H
BEGIN:VTIMEZONE
TZID:America/Sao_Paulo
BEGIN:STANDARD
TZOFFSETFROM:-0300
TZOFFSETTO:-0300
TZNAME:-03
DTSTART:20250101T000000
END:STANDARD
END:VTIMEZONE
BEGIN:VEVENT
DTSTART;TZID=America/Sao_Paulo:20260215T170000
DTEND;TZID=America/Sao_Paulo:20260215T200000
DTSTAMP:20260421T203856
CREATED:20260126T154201Z
LAST-MODIFIED:20260126T154207Z
UID:1554-1771174800-1771185600@www.santafe.gob.ar
SUMMARY:La Rambla\, ciudad de Rosario
DESCRIPTION:
URL:https://www.santafe.gob.ar/ms/operativo-verano/evento/la-rambla-ciudad-de-rosario-3/
LOCATION:la rambla\, 2592\, Av. Eudoro Carrasco 2544\, S2005 Rosario\, Santa Fe\, Argentina\, Rosario\, Argentina
ATTACH;FMTTYPE=image/jpeg:https://www.santafe.gob.ar/ms/operativo-verano/wp-content/uploads/sites/65/2025/01/DSC_6189.jpg
END:VEVENT
END:VCALENDAR