BEGIN:VCALENDAR
VERSION:2.0
PRODID:-//Operativo Verano - ECPv6.15.17//NONSGML v1.0//EN
CALSCALE:GREGORIAN
METHOD:PUBLISH
X-ORIGINAL-URL:https://www.santafe.gob.ar/ms/operativo-verano
X-WR-CALDESC:Eventos para Operativo Verano
REFRESH-INTERVAL;VALUE=DURATION:PT1H
X-Robots-Tag:noindex
X-PUBLISHED-TTL:PT1H
BEGIN:VTIMEZONE
TZID:America/Sao_Paulo
BEGIN:STANDARD
TZOFFSETFROM:-0300
TZOFFSETTO:-0300
TZNAME:-03
DTSTART:20250101T000000
END:STANDARD
END:VTIMEZONE
BEGIN:VEVENT
DTSTART;TZID=America/Sao_Paulo:20260221T080000
DTEND;TZID=America/Sao_Paulo:20260221T170000
DTSTAMP:20260421T203830
CREATED:20251218T131411Z
LAST-MODIFIED:20251218T131416Z
UID:1470-1771660800-1771693200@www.santafe.gob.ar
SUMMARY:Carnavales Sastre
DESCRIPTION:
URL:https://www.santafe.gob.ar/ms/operativo-verano/evento/carnavales-sastre/
LOCATION:Cosmódromo “Toto Strada” de plaza Independencia\, 25 de mayo y Emilio Ortiz\, Sastre y Ortiz\, Santa Fe\, Argentina
ATTACH;FMTTYPE=image/jpeg:https://www.santafe.gob.ar/ms/operativo-verano/wp-content/uploads/sites/65/2024/12/Sastre-carnavales-scaled.jpg
END:VEVENT
BEGIN:VEVENT
DTSTART;TZID=America/Sao_Paulo:20260221T170000
DTEND;TZID=America/Sao_Paulo:20260221T200000
DTSTAMP:20260421T203830
CREATED:20260126T154429Z
LAST-MODIFIED:20260126T154434Z
UID:1556-1771693200-1771704000@www.santafe.gob.ar
SUMMARY:Pileta Cabin 9\, ciudad de Rosario
DESCRIPTION:
URL:https://www.santafe.gob.ar/ms/operativo-verano/evento/pileta-cabin-9-ciudad-de-rosario/
ATTACH;FMTTYPE=image/jpeg:https://www.santafe.gob.ar/ms/operativo-verano/wp-content/uploads/sites/65/2025/02/DSC_6060.jpg
END:VEVENT
END:VCALENDAR