BEGIN:VCALENDAR
VERSION:2.0
PRODID:-//Operativo Verano - ECPv6.15.17//NONSGML v1.0//EN
CALSCALE:GREGORIAN
METHOD:PUBLISH
X-WR-CALNAME:Operativo Verano
X-ORIGINAL-URL:https://www.santafe.gob.ar/ms/operativo-verano
X-WR-CALDESC:Eventos para Operativo Verano
REFRESH-INTERVAL;VALUE=DURATION:PT1H
X-Robots-Tag:noindex
X-PUBLISHED-TTL:PT1H
BEGIN:VTIMEZONE
TZID:America/Sao_Paulo
BEGIN:STANDARD
TZOFFSETFROM:-0300
TZOFFSETTO:-0300
TZNAME:-03
DTSTART:20250101T000000
END:STANDARD
END:VTIMEZONE
BEGIN:VEVENT
DTSTART;TZID=America/Sao_Paulo:20260314T080000
DTEND;TZID=America/Sao_Paulo:20260315T170000
DTSTAMP:20260421T191707
CREATED:20251218T132405Z
LAST-MODIFIED:20251218T132716Z
UID:1474-1773475200-1773594000@www.santafe.gob.ar
SUMMARY:2º Santa Fe tiene tango
DESCRIPTION:
URL:https://www.santafe.gob.ar/ms/operativo-verano/evento/2o-santa-fe-tiene-tango/
LOCATION:Festram\, Av. Gdor. Freyre 1635\, S3000EOH Santa Fe de la Vera Cruz\, Santa Fe\, Santa Fe\, Santa Fe\, Argentina
ATTACH;FMTTYPE=image/jpeg:https://www.santafe.gob.ar/ms/operativo-verano/wp-content/uploads/sites/65/2024/12/Santa-Fe-Tangofriulano-copia.jpg
END:VEVENT
END:VCALENDAR