BEGIN:VCALENDAR
VERSION:2.0
PRODID:-//Operativo Verano - ECPv6.15.17//NONSGML v1.0//EN
CALSCALE:GREGORIAN
METHOD:PUBLISH
X-ORIGINAL-URL:https://www.santafe.gob.ar/ms/operativo-verano
X-WR-CALDESC:Eventos para Operativo Verano
REFRESH-INTERVAL;VALUE=DURATION:PT1H
X-Robots-Tag:noindex
X-PUBLISHED-TTL:PT1H
BEGIN:VTIMEZONE
TZID:America/Sao_Paulo
BEGIN:STANDARD
TZOFFSETFROM:-0300
TZOFFSETTO:-0300
TZNAME:-03
DTSTART:20250101T000000
END:STANDARD
END:VTIMEZONE
BEGIN:VEVENT
DTSTART;TZID=America/Sao_Paulo:20260321T080000
DTEND;TZID=America/Sao_Paulo:20260321T170000
DTSTAMP:20260421T191241
CREATED:20251218T133056Z
LAST-MODIFIED:20251218T133453Z
UID:1479-1774080000-1774112400@www.santafe.gob.ar
SUMMARY:Rafaela Rock Festival 2026
DESCRIPTION:
URL:https://www.santafe.gob.ar/ms/operativo-verano/evento/rafaela-rock-festival-2026/
LOCATION:Club Planeadores de Rafaela\, S2300 Rafaela\, Santa Fe\, Rafaela\, Santa Fe\, Argentina
ATTACH;FMTTYPE=image/jpeg:https://www.santafe.gob.ar/ms/operativo-verano/wp-content/uploads/sites/65/2024/12/las-toscas-rock.jpg
END:VEVENT
END:VCALENDAR